BEGIN:VCALENDAR
VERSION:2.0
PRODID:-//Vídeňské svobodné listy - ECPv6.15.20//NONSGML v1.0//EN
CALSCALE:GREGORIAN
METHOD:PUBLISH
X-WR-CALNAME:Vídeňské svobodné listy
X-ORIGINAL-URL:https://viden-vsl.at
X-WR-CALDESC:Akce na Vídeňské svobodné listy
REFRESH-INTERVAL;VALUE=DURATION:PT1H
X-Robots-Tag:noindex
X-PUBLISHED-TTL:PT1H
BEGIN:VTIMEZONE
TZID:UTC
BEGIN:STANDARD
TZOFFSETFROM:+0000
TZOFFSETTO:+0000
TZNAME:UTC
DTSTART:20250101T000000
END:STANDARD
END:VTIMEZONE
BEGIN:VEVENT
DTSTART;TZID=UTC:20260523T140000
DTEND;TZID=UTC:20260525T140000
DTSTAMP:20260422T050544
CREATED:20251210T082129Z
LAST-MODIFIED:20260208T122004Z
UID:10869-1779544800-1779717600@viden-vsl.at
SUMMARY:Sokolská župa Rakouská // Sokolské setkání v Oetzu 2026
DESCRIPTION:JAZYK: čeština \nINFO o akci: \nSokolská župa Rakouská zve na Sokolské setkání v Oetzu. Letošní pořadatel je Sokolská župa Švýcarská. \nMÍSTO konání:\nobec Oetz\nMapa příjezdu\n\nVíce informací o Sokolském setkání v Oetzu si můžete přečíst ve VSL 26-30 / 2025 na str. 1 až 3 v RUBRICE „Sokol“.\nVídeňské svobodné listy si můžete objednat v tištěné podobě (roční předplatné) nebo zakoupit v elektronické podobě (roční předplatné nebo také možnost zakoupení jednotlivých vydání). \nDALŠÍ info:\n– na webu: Sokolská župa Rakouská\n– na emailu: sokol@sokol-wien.at\n– na tel: (+43) 699 1353 7270 \nFoto: Sokolská župa Rakouská
URL:https://viden-vsl.at/kalendar-akci/sokolska-zupa-rakouska-sokolske-setkani-v-oetzu-2026/
LOCATION:obec Oetz\, Oetz\, 6433\, Rakousko
CATEGORIES:grilovačka,posezení,pro děti,sport
ATTACH;FMTTYPE=image/png:https://viden-vsl.at/wp-content/uploads/2025/12/2026-05-23_SRAZ_Sokolsky-sraz-v-Oetzu_SOKOLSKA-ZUPA-RAKOUSKA.png
ORGANIZER;CN="Sokolsk%C3%A1 %C5%BEupa %C5%A0v%C3%BDcarsk%C3%A1":MAILTO:pechou@swissonline.ch
END:VEVENT
END:VCALENDAR